BEGIN:VCALENDAR
VERSION:2.0
PRODID:-//eventon.com NONSGML v1.0//EN
CALSCALE:GREGORIAN
METHOD:PUBLISH
BEGIN:VEVENT
UID:69e88bf39a369
DTSTAMP:20260422T085059Z
DTSTART:20260911T060000Z
DTEND:20260913T160000Z
LOCATION:
SUMMARY:Corso Guida Equestre Escursionistica\,  Modulo 2
DESCRIPTION:Corso diviso in 2 momenti\nhttps://www.snee.it/events/corso-gui
 da-equestre-escursionistica-modulo-2-bergamo/
URL:https://www.snee.it/events/corso-guida-equestre-escursionistica-modulo-2-bergamo/
END:VEVENT
END:VCALENDAR