BEGIN:VCALENDAR
VERSION:2.0
PRODID:-//eventon.com NONSGML v1.0//EN
CALSCALE:GREGORIAN
METHOD:PUBLISH
BEGIN:VEVENT
UID:69e3597d4767b
DTSTAMP:20260418T101421Z
DTSTART:20260424T060000Z
DTEND:20260426T160000Z
LOCATION:
SUMMARY:Tecnico 1° livello Ludico/Ricreativo Disabili
DESCRIPTION:Corso in 2 parti (24-25-26 aprile-1-2-3 maggio 2026)\nhttps://w
 ww.snee.it/events/tecnico-1-livello-ludico-ricreativo-disabili-seconda-part
 e/
URL:https://www.snee.it/events/tecnico-1-livello-ludico-ricreativo-disabili-seconda-parte/
END:VEVENT
END:VCALENDAR