BEGIN:VCALENDAR
VERSION:2.0
PRODID:-//eventon.com NONSGML v1.0//EN
CALSCALE:GREGORIAN
METHOD:PUBLISH
BEGIN:VEVENT
UID:69e2ce442fc43
DTSTAMP:20260418T002020Z
DTSTART:20260501T060000Z
DTEND:20260503T160000Z
LOCATION:
SUMMARY:Tecnico 1° livello Ludico/Ricreativo Disabili
DESCRIPTION:Corso in 2 parti\nhttps://www.snee.it/events/tecnico-1-livello-
 ludico-ricreativo-disabili/
URL:https://www.snee.it/events/tecnico-1-livello-ludico-ricreativo-disabili/
END:VEVENT
END:VCALENDAR