BEGIN:VCALENDAR
VERSION:2.0
PRODID:-//eventon.com NONSGML v1.0//EN
CALSCALE:GREGORIAN
METHOD:PUBLISH
BEGIN:VEVENT
UID:69e88bee12919
DTSTAMP:20260422T085054Z
DTSTART:20260929T060000Z
DTEND:20261004T160000Z
LOCATION:
SUMMARY:Corso Guida Equestre Escursionistica\,  Modulo 2
DESCRIPTION:Corso Guida Equestre Escursionistica\,  Modulo 2\nhttps://www.s
 nee.it/events/corso-guida-equestre-escursionistica-modulo-2-2/
URL:https://www.snee.it/events/corso-guida-equestre-escursionistica-modulo-2-2/
END:VEVENT
END:VCALENDAR