BEGIN:VCALENDAR
VERSION:2.0
PRODID:-//eventon.com NONSGML v1.0//EN
CALSCALE:GREGORIAN
METHOD:PUBLISH
BEGIN:VEVENT
UID:69e88bebdc9f3
DTSTAMP:20260422T085051Z
DTSTART:20260915T060000Z
DTEND:20260920T160000Z
LOCATION:
SUMMARY:Guida Equestre Escursionistica Superiore\,  Modulo 2
DESCRIPTION:Guida Equestre Escursionistica Superiore\,  Modulo 2\nhttps://w
 ww.snee.it/events/corso-guida-equestre-escursionistica-superiore-2/
URL:https://www.snee.it/events/corso-guida-equestre-escursionistica-superiore-2/
END:VEVENT
END:VCALENDAR