BEGIN:VCALENDAR
VERSION:2.0
PRODID:-//eventon.com NONSGML v1.0//EN
CALSCALE:GREGORIAN
METHOD:PUBLISH
BEGIN:VEVENT
UID:69e88bea2aefb
DTSTAMP:20260422T085050Z
DTSTART:20260713T060000Z
DTEND:20260718T160000Z
LOCATION:
SUMMARY:Guida Equestre Escursionistica Superiore\,  Modulo escursionismo avanzato
DESCRIPTION:Modulo escursionismo avanzato\nhttps://www.snee.it/events/corso
 -guida-equestre-escursionistica-superiore/
URL:https://www.snee.it/events/corso-guida-equestre-escursionistica-superiore/
END:VEVENT
END:VCALENDAR