BEGIN:VCALENDAR
VERSION:2.0
PRODID:-//eventon.com NONSGML v1.0//EN
CALSCALE:GREGORIAN
METHOD:PUBLISH
BEGIN:VEVENT
UID:69e88be811d25
DTSTAMP:20260422T085048Z
DTSTART:20260623T060000Z
DTEND:20260628T160000Z
LOCATION:
SUMMARY:Corso Assistente Guida
DESCRIPTION:Propedeutico al Corso di Guida Equestre Escursionistica\nhttps:
 //www.snee.it/events/corso-assistente-guida/
URL:https://www.snee.it/events/corso-assistente-guida/
END:VEVENT
END:VCALENDAR